BEGIN:VCALENDAR
VERSION:2.0
BEGIN:VEVENT
URL:https://tickets.metropolistouring.com/outlet/event/65ba061c-2404-4c56-b825-8115e1425196
DTSTART:20260724T100000Z
DTEND:20260724T100000Z
SUMMARY:CANCELLED - Celebrating QUEEN
DESCRIPTION:Event details: https://tickets.metropolistouring.com/outlet/event/65ba061c-2404-4c56-b825-8115e1425196
LOCATION:The Gov - The Venue (Hindmarsh, SA)
END:VEVENT
END:VCALENDAR